BEGIN:VCALENDAR
VERSION:2.0
PRODID:spatie/icalendar-generator
DESCRIPTION:Händelser från Betaniaförsamlingen i Möklinta
X-WR-CALDESC:Händelser från Betaniaförsamlingen i Möklinta
REFRESH-INTERVAL;VALUE=DURATION:PT1440M
X-PUBLISHED-TTL:PT1440M
BEGIN:VTIMEZONE
TZID:Europe/Stockholm
BEGIN:STANDARD
DTSTART:20251026T030000Z
TZOFFSETFROM:+0200
TZOFFSETTO:+0100
END:STANDARD
BEGIN:DAYLIGHT
DTSTART:20260329T020000Z
TZOFFSETFROM:+0100
TZOFFSETTO:+0200
END:DAYLIGHT
BEGIN:STANDARD
DTSTART:20261025T030000Z
TZOFFSETFROM:+0200
TZOFFSETTO:+0100
END:STANDARD
END:VTIMEZONE
BEGIN:VTIMEZONE
TZID:UTC
BEGIN:STANDARD
DTSTART:20250729T151223Z
TZOFFSETFROM:+0000
TZOFFSETTO:+0000
END:STANDARD
END:VTIMEZONE
BEGIN:VEVENT
UID:188-18
DTSTAMP:20260425T151223Z
SUMMARY:Bibelskolan Betania
LOCATION:På distans   Zoom
ORGANIZER;CN=lennartb:MAILTO:lennart.bonnevier@betaniaforsamlingen.se
RRULE:FREQ=WEEKLY;UNTIL=20260609T000000Z
DTSTART;TZID=Europe/Stockholm:20260525T180000
DTEND;TZID=Europe/Stockholm:20260525T190000
X-ALT-DESC;FMTTYPE=TEXT/HTML:<p>Vi möts på Zoom. Länk skickas ut inför 
 varje möte.</p>\n
CATEGORIES:Bibelskolan
URL;VALUE=URI:https://betaniaforsamlingen.se/mc-events/bibelskolan-betania/
 ?mc_id=188
METHOD:PUBLISH
END:VEVENT
END:VCALENDAR